BEGIN:VCALENDAR
VERSION:2.0
PRODID:-//L.D. Arts College - ECPv6.15.20//NONSGML v1.0//EN
CALSCALE:GREGORIAN
METHOD:PUBLISH
X-ORIGINAL-URL:https://www.ldarts.edu.in
X-WR-CALDESC:Events for L.D. Arts College
REFRESH-INTERVAL;VALUE=DURATION:PT1H
X-Robots-Tag:noindex
X-PUBLISHED-TTL:PT1H
BEGIN:VTIMEZONE
TZID:Asia/Kolkata
BEGIN:STANDARD
TZOFFSETFROM:+0530
TZOFFSETTO:+0530
TZNAME:IST
DTSTART:20220101T000000
END:STANDARD
END:VTIMEZONE
BEGIN:VEVENT
DTSTART;VALUE=DATE:20230202
DTEND;VALUE=DATE:20230203
DTSTAMP:20260421T135520
CREATED:20240126T083621Z
LAST-MODIFIED:20240205T062735Z
UID:2898-1675296000-1675382399@www.ldarts.edu.in
SUMMARY:College Women Development Cell 2023
DESCRIPTION:Name of Department: College Women Development Cell \nName of Activity/Event: Lectures by Gynaecologist and Diet Expert \nDate on which Activity/Event was conducted: 2nd February 2023 \nProfessor/(s) In-charge: BITHIKA PANDYA AND DR. SARITA SHUKLA \nPlace where the Activity was conducted: College Auditorium \n Details of the Activity: The College Women Development Cell of the L.D.Arts. College Ahmedabad hosted and organized a very successful programme on awareness of women reproductive system\, health related issues\, nutrition and programme on awareness of women reproductive health related Issues nutrition and deficiency in women 2nd February 2023. The programme started with an enlightened speech by the coordinator\, the head of our College\, the Principal Dr. MahipatSinh Chavda sir; The lecture wan given by Dr Manoranjanaben Shah\, a Well-known gynaecologist\, Arunaben Chandrakan\, an expert in Nutrition and Nchalben Luhan. The whole programme was conducted by Dr Sarita Shukla. The opening remarks and introduction of the programme was given by the Principal. He highlighted on the awareness regarding safety of the girls\, their problems and solution\, issues regarding physical illness and its impact on the Study. He also described the importance of self-defence for the girls.\nDr Manoranjana Shah\, a well-known Gynaecologist in B.J.Medical College presented an interactive session with the students and on reproductive system\, menopause\, issues and post menopause issues and problems. She gave a detailed knowledge on the hormonal changes in the girls\, hygiene\, HIV\, STD\, Anaemia. \nNehaben Luthar\, a programme officer of Family Planning Association gave information regarding reproductive health\, problem of precautions. Anaemia\, teenage pregnancy and precautions. \nArunaben Chandrakaran a Nutrition Expert also gave lecture on nutrition deficiency in girts\, guidance on diet chart. \nAt the end there was personal advice and Counselling done to more than 30 girls about then health issues. Interactive session in the form of question and answers were very informative to all the participants. \n Outcome of the Activity/Event: Medical Advice and personal counselling done to many girl students of the college.
URL:https://www.ldarts.edu.in/event/college-women-development-cell-2023/
LOCATION:L.D. Arts College\, Near IIM-A\, Opp. Andhjan Mandal\, Navrangpura\,\, Ahmedabad\, Gujarat\, 380009\, India
CATEGORIES:All Departments,CWDC
ATTACH;FMTTYPE=image/jpeg:https://www.ldarts.edu.in/wp-content/uploads/2024/01/nggallery_import/2-ldarts-cwdc-2023-09.jpg
END:VEVENT
BEGIN:VEVENT
DTSTART;VALUE=DATE:20230209
DTEND;VALUE=DATE:20230210
DTSTAMP:20260421T135520
CREATED:20240204T123216Z
LAST-MODIFIED:20240205T032904Z
UID:2990-1675900800-1675987199@www.ldarts.edu.in
SUMMARY:Field Trip to Polo Forest
DESCRIPTION:Name of department: GEOGRAPHY \nName of activity/event: Field Trip and Report Writing \nDate on which activity/event was conducted: 09-02-2023 \nProfessor (s) in-charge: Dr. Aditi Ashia and Rajveer Sisodiya \nPlace where the activity was conducted: Idar and Polo Forest \nDetails of the activity: On way to the lush green topography of the Polo Forest\, we reached the senile boulder topography of the Idar hills\, with the historical Fort atop\, popularly known as the Idariyo Gadh. It provided a wonderful trekking experience to the students. Polo Forest situated around 150 km from Ahmedabad and 40 km from Idar city on the border of Gujarat and Rajasthan. River Harnav is main lifeline of Polo forest. The 400 square km area of dry mixed deciduous forest is most lush between August to December. The landscape appeared a bit open on winter day. Ancient temples like Jain derasar\, Surya Mandir and Sarneshwar temple having rich heritage and architectural marvel are located inside forest. A small dam inside forest – Harnav dam on Harnav river is another attraction inside the forest. The students had a wonderful experience of trekking over the ancient topography\, relict hills that have withstood the factors of weathering over the eons. \nOutcome of the activity/event: The students had an opportunity to observe the geographically varied topography and natural environment in the north-eastern corner of Gujarat State. Besides Geography\, the students could also enrich their knowledge of History and Heritage of state. The same was presented as a study tour report\, along with maps\, sketches and photographs. \n\n\n\n		\n				\n						\n			\n								\n			\n		\n							\n			\n				\n						\n			\n								\n			\n		\n							\n			\n				\n						\n			\n								\n			\n		\n							\n			\n				\n						\n			\n								\n			\n		\n							\n			\n				\n						\n			\n								\n			\n		\n							\n			\n				\n						\n			\n								\n			\n		\n							\n			\n				\n						\n			\n								\n			\n		\n							\n			\n				\n						\n			\n								\n			\n		\n							\n			\n				\n						\n			\n								\n			\n		\n							\n			\n				\n						\n			\n								\n			\n		\n							\n			\n				\n						\n			\n								\n			\n		\n							\n			\n				\n						\n			\n								\n			\n		\n							\n			\n				\n						\n			\n								\n			\n		\n							\n			\n				\n						\n			\n								\n			\n		\n							\n			\n				\n						\n			\n								\n			\n		\n							\n			\n				\n						\n			\n								\n			\n		\n							\n			\n				\n						\n			\n								\n			\n		\n							\n			\n				\n						\n			\n								\n			\n		\n							\n			\n				\n						\n			\n								\n			\n		\n							\n			\n				\n						\n			\n								\n			\n		\n							\n			\n				\n						\n			\n								\n			\n		\n							\n			\n				\n						\n			\n								\n			\n		\n							\n			\n				\n						\n			\n								\n			\n		\n							\n			\n				\n						\n			\n								\n			\n		\n							\n			\n	\n	\n\n	\n		\n		1\n2\n...\n16\n►
URL:https://www.ldarts.edu.in/event/field-trip-to-polo-forest/
LOCATION:Polo Forest\, Sabarkantha\, Gujarat\, India
CATEGORIES:All Departments,Department of Geography
ATTACH;FMTTYPE=image/jpeg:https://www.ldarts.edu.in/wp-content/uploads/2024/02/nggallery_import/field-trip-to-polo-forest.jpg
END:VEVENT
BEGIN:VEVENT
DTSTART;VALUE=DATE:20230216
DTEND;VALUE=DATE:20230217
DTSTAMP:20260421T135520
CREATED:20240127T105950Z
LAST-MODIFIED:20240205T032852Z
UID:2955-1676505600-1676591999@www.ldarts.edu.in
SUMMARY:Industrial visit to Amul Dairy and NDDB
DESCRIPTION:Name of Department: Economics \nName of Activity/Event: Industrial visit \nDate on which Activity/Event was conducted: 16th Feb\, 2023 \nProfessor/(s) In-charge: Ila Bhola(HOD)\, Dr. Vinod Meena\, Dr. Jagruti Thumar \nPlace where the Activity was conducted: Amul Dairy & NDDB\, Anand \nDetails of the Activity:  \n\nA batch of 6th Semester 50th  Student and three Professor visited this place\nThe NDDB was Founded by Dr. Varghese kurien in 1965\nThe coordinators at Amul dairy showed us a film about establishment of Amul cooperative society and then took us on tour of the dairy plant and we saw the making of milk powder and famous and most loved Amul butter. It was a magnificent experience.\nThen we headed to our last stop. Amul chocolate factory\, we witnessed making of chocolate chips and almond.\n\nOutcome of the Activity/Event: \n\nAmul is the largest milk cooperative society in the world and we learned how it operates so efficiently and for the good of the farmer for so many years now.\nAt NDDB we got the Know so many things about many experiments and mission that are going on for improving the quality of live stock and to increase the milk productivity.
URL:https://www.ldarts.edu.in/event/industrial-visit-to-amul-dairy-and-nddb/
LOCATION:Amul Dairy\, Anand\, Gujarat\, India
CATEGORIES:All Departments,Department of Geography
ATTACH;FMTTYPE=image/jpeg:https://www.ldarts.edu.in/wp-content/uploads/2024/01/nggallery_import/ldarts-industrial-visit-to-amul-dairy-and-nddb-02.jpg
END:VEVENT
END:VCALENDAR