BEGIN:VCALENDAR
VERSION:2.0
PRODID:-//L.D. Arts College - ECPv6.15.20//NONSGML v1.0//EN
CALSCALE:GREGORIAN
METHOD:PUBLISH
X-ORIGINAL-URL:https://www.ldarts.edu.in
X-WR-CALDESC:Events for L.D. Arts College
REFRESH-INTERVAL;VALUE=DURATION:PT1H
X-Robots-Tag:noindex
X-PUBLISHED-TTL:PT1H
BEGIN:VTIMEZONE
TZID:Asia/Kolkata
BEGIN:STANDARD
TZOFFSETFROM:+0530
TZOFFSETTO:+0530
TZNAME:IST
DTSTART:20210101T000000
END:STANDARD
END:VTIMEZONE
BEGIN:VEVENT
DTSTART;VALUE=DATE:20221227
DTEND;VALUE=DATE:20221228
DTSTAMP:20260421T164455
CREATED:20240127T110421Z
LAST-MODIFIED:20240205T062952Z
UID:2954-1672099200-1672185599@www.ldarts.edu.in
SUMMARY:Educational visit to Environmental Sanitation Institute
DESCRIPTION:Name of Department: Economics \nName of Activity/Event: Educational visit \nDate on which Activity/Event was conducted: 27th Dec 2022 \nProfessor/(s) In-charge: Ila Bhola(HOD)\, Dr. Vinod Meena\, Dr. Jagruti Thumar \nPlace where the Activity was conducted: Environmental Sanitation Institute\, Sughad \nDetails of the Activity:  \n\nA batch of 6th Semester 50th  Student and three Professor visited this place\nThis institute working since 1985 and organizing campaigns across India\nIt is an NGO which tirelessly works in the field of water harvesting\, recharging ground water\, sanitation training\, construction of public hygiene places and environmental awareness\n\nOutcome of the Activity/Event: \n\nTo learn groundwater management\nTo understand the process and conservation of water harvesting system\nTo development various life skills such as team building\, time management and promote the necessity of social outreach programs.\n\n“Water is life but Sanitation is a way of life”
URL:https://www.ldarts.edu.in/event/educational-visit-to-environmental-sanitation-institute/
LOCATION:Sughad\, Gandhinagar\, Gujarat\, India
CATEGORIES:All Departments,Department of Economics
ATTACH;FMTTYPE=image/jpeg:https://www.ldarts.edu.in/wp-content/uploads/2024/01/nggallery_import/ldarts-educational-visit-to-environmental-sanitation-institute-01.jpg
END:VEVENT
END:VCALENDAR