BEGIN:VCALENDAR
VERSION:2.0
PRODID:-//L.D. Arts College - ECPv6.15.20//NONSGML v1.0//EN
CALSCALE:GREGORIAN
METHOD:PUBLISH
X-WR-CALNAME:L.D. Arts College
X-ORIGINAL-URL:https://www.ldarts.edu.in
X-WR-CALDESC:Events for L.D. Arts College
REFRESH-INTERVAL;VALUE=DURATION:PT1H
X-Robots-Tag:noindex
X-PUBLISHED-TTL:PT1H
BEGIN:VTIMEZONE
TZID:Asia/Kolkata
BEGIN:STANDARD
TZOFFSETFROM:+0530
TZOFFSETTO:+0530
TZNAME:IST
DTSTART:20210101T000000
END:STANDARD
END:VTIMEZONE
BEGIN:VEVENT
DTSTART;TZID=Asia/Kolkata:20221002T160000
DTEND;TZID=Asia/Kolkata:20221003T190000
DTSTAMP:20260423T140941
CREATED:20240127T131623Z
LAST-MODIFIED:20240205T063012Z
UID:2970-1664726400-1664823600@www.ldarts.edu.in
SUMMARY:International Multilingual Poetry Festival - Kavya Yagya Season 2
DESCRIPTION:Name of Department: English \nName of Activity/Event: Kavya Yagya Season 2 \nDate on which Activity/Event was conducted: October 2-3\, 2022 \nProfessor/(s) In-charge: Jenny Rathod\, Dr. Gajendra Panda\, Dr. B. A. Rohit\, Prof. S Z Chaudhary \nPlace where the Activity was conducted: The activity was conducted online via Zoom platform \nDetails of the Activity:  \nIntroduction: L D Arts College proudly hosted the second edition of Kavya Yagya\, an International Multilingual Poetry Festival\, on October 2-3\, 2022. This festival was a collaborative effort by the Departments of English\, Sanskrit\, Hindi\, and Gujarati. The primary aim was to celebrate the art of poetry by inviting poets from various regions\, languages\, nations\, and cultures to participate in this grand National and International Poetry Festival. \nThe Significance of Poetry: The festival aimed to highlight the importance of poetry in the contemporary world. Poetry\, as an art form\, offers a unique lens through which we can understand and appreciate the complexities of the world around us. In an era dominated by digital communication\, poetry often remains underutilized and underestimated. However\, its potential to convey profound insights into human experience and nature is unparalleled. \nPoetry\, considered one of the highest genres of literature\, boasts a rich history spanning several millennia. It is a form of artistic expression that combines beauty\, intensity\, and an ideal fusion of thought and emotion. The poet\, equipped with unusual sensitivity and insight\, possesses the ability to articulate thoughts in a beautiful and romantic manner\, thereby delighting and instructing the audience. \nKavya Yagya Season 2: The event\, aptly named Kavya Yagya\, is a testament to the college’s commitment to promoting unity in diversity. The festival featured poetry recitations in languages such as English\, Sanskrit\, Hindi\, Gujarati\, Bengali\, Kannada\, Malayalam\, Marathi and many others. This multilingual approach emphasized the college’s vision of bringing together varied languages\, cultures\, and nations under one creative umbrella. \nKavya Yagya Season 2 followed the success of its predecessor\, Kavya Yagya Season 1\, which took place from October 17-13\, 2021. The inaugural event witnessed the participation of 47 poets from 35 countries\, drawing attention from both print and electronic media. The resounding success of the first season inspired the organizers to continue this literary celebration\, providing a platform for poets from diverse backgrounds. \nThe Yagya Concept: The term “Kavya Yagya” was carefully chosen to symbolize the essence of the event. Much like a yagya\, or ritualistic offering\, where offerings are made to a sacred fire\, Kavya Yagya involved the poetic ‘ahutis’ (offerings) of numerous poets and creative individuals. It was a collective endeavor to create an atmosphere of artistic devotion\, fostering a sense of unity among poets irrespective of linguistic or cultural differences. \nOutcome of the Activity/Event : \nKavya Yagya Season 2 was more than a festival; it was a celebration of the universal language of poetry. By transcending linguistic\, racial\, regional\, and cultural boundaries\, the event contributed to the college’s broader mission of fostering global understanding and appreciation for the arts. The success of the festival not only showcased the power of poetry but also underscored the importance of cultural exchange and collaboration in our interconnected world. \nDownload Kavya Yagya Season 2 Program Outline
URL:https://www.ldarts.edu.in/event/international-multilingual-poetry-festival-kavya-yagya-season-2/
LOCATION:Online
CATEGORIES:All Departments,Department of English,Department of Gujarati,Department of Hindi
END:VEVENT
END:VCALENDAR