BEGIN:VCALENDAR
VERSION:2.0
PRODID:-//L.D. Arts College - ECPv6.15.20//NONSGML v1.0//EN
CALSCALE:GREGORIAN
METHOD:PUBLISH
X-ORIGINAL-URL:https://www.ldarts.edu.in
X-WR-CALDESC:Events for L.D. Arts College
REFRESH-INTERVAL;VALUE=DURATION:PT1H
X-Robots-Tag:noindex
X-PUBLISHED-TTL:PT1H
BEGIN:VTIMEZONE
TZID:Asia/Kolkata
BEGIN:STANDARD
TZOFFSETFROM:+0530
TZOFFSETTO:+0530
TZNAME:IST
DTSTART:20210101T000000
END:STANDARD
END:VTIMEZONE
BEGIN:VEVENT
DTSTART;TZID=Asia/Kolkata:20220914T090000
DTEND;TZID=Asia/Kolkata:20220915T170000
DTSTAMP:20260425T155401
CREATED:20240204T124850Z
LAST-MODIFIED:20240205T063026Z
UID:2997-1663146000-1663261200@www.ldarts.edu.in
SUMMARY:Hindi Divas 2022
DESCRIPTION:Name of Department: Hindi \nName of Activity/Event: Hindi Diwas \nDate on which Activity/Event was conducted: 14/09/2022 – 15/09/2022 \nProfessor/(s) In-charge: Dr. Sarita Shukla \nPlace where the Activity was conducted: L.D. Arts College \nDetails of the Activity:  \n\nGuest Lecture was organised on the Importance of Hindi literature and employment opportunities in Hindi literature\, language and translation\,\nPlay performed by students on “Hindi Bimaar hai”\,\nPoetry recitation by students on Women Empowerment and several other cultural activities. (Maximum 500 words)\n\nOutcome of the Activity/Event: Awareness about employment opportunities in Hindi literature\, youth sensitization towards importance of Hindi literature. \n\n\n\n		\n				\n						\n			\n								\n			\n		\n							\n			\n				\n						\n			\n								\n			\n		\n							\n			\n				\n						\n			\n								\n			\n		\n							\n			\n				\n						\n			\n								\n			\n		\n							\n			\n				\n						\n			\n								\n			\n		\n							\n			\n				\n						\n			\n								\n			\n		\n							\n			\n				\n						\n			\n								\n			\n		\n							\n			\n				\n						\n			\n								\n			\n		\n							\n			\n				\n						\n			\n								\n			\n		\n							\n			\n				\n						\n			\n								\n			\n		\n							\n			\n				\n						\n			\n								\n			\n		\n							\n			\n				\n						\n			\n								\n			\n		\n							\n			\n				\n						\n			\n								\n			\n		\n							\n			\n				\n						\n			\n								\n			\n		\n							\n			\n				\n						\n			\n								\n			\n		\n							\n			\n				\n						\n			\n								\n			\n		\n							\n			\n				\n						\n			\n								\n			\n		\n							\n			\n				\n						\n			\n								\n			\n		\n							\n			\n				\n						\n			\n								\n			\n		\n							\n			\n				\n						\n			\n								\n			\n		\n							\n			\n				\n						\n			\n								\n			\n		\n							\n			\n				\n						\n			\n								\n			\n		\n							\n			\n				\n						\n			\n								\n			\n		\n							\n			\n				\n						\n			\n								\n			\n		\n							\n			\n	\n	\n\n	\n		\n		1\n2\n...\n16\n►
URL:https://www.ldarts.edu.in/event/hindi-divas-2022/
LOCATION:L.D. Arts College\, Near IIM-A\, Opp. Andhjan Mandal\, Navrangpura\,\, Ahmedabad\, Gujarat\, 380009\, India
CATEGORIES:All Departments,Department of Hindi
ATTACH;FMTTYPE=image/jpeg:https://www.ldarts.edu.in/wp-content/uploads/2024/02/nggallery_import/ldarts-hindi-divas-2022-02.jpg
END:VEVENT
END:VCALENDAR